
BEGIN:VCALENDAR
VERSION:2.0
PRODID:-//Etkinlikvarmi//Takvime Ekle//TR
BEGIN:VEVENT
UID:69e5ee6ded9b3@etkinlikvarmi.com
DTSTAMP:20260420T091421Z
DTSTART:20260424T210000
DTEND:20260424T230000
SUMMARY:Soner Sarıkabadayı
LOCATION:Necip Fazıl Kısakürek K.M., Erzurum
DESCRIPTION:Soner Sarıkabadayı etkinliği Erzurum şehrinde Necip Fazıl Kısakürek K.M. mekanında.
END:VEVENT
END:VCALENDAR
