
BEGIN:VCALENDAR
VERSION:2.0
PRODID:-//Etkinlikvarmi//Takvime Ekle//TR
BEGIN:VEVENT
UID:69e5f1074b326@etkinlikvarmi.com
DTSTAMP:20260420T092527Z
DTSTART:20260425T210000
DTEND:20260425T230000
SUMMARY:Soner Sarıkabadayı
LOCATION:Binali Yıldırım Üniversitesi, Erzincan
DESCRIPTION:Soner Sarıkabadayı etkinliği Erzincan şehrinde Binali Yıldırım Üniversitesi mekanında.
END:VEVENT
END:VCALENDAR
