
BEGIN:VCALENDAR
VERSION:2.0
PRODID:-//Etkinlikvarmi//Takvime Ekle//TR
BEGIN:VEVENT
UID:69eb479290356@etkinlikvarmi.com
DTSTAMP:20260424T103602Z
DTSTART:20260428T200000
DTEND:20260428T220000
SUMMARY:Anlatanadam
LOCATION:Akatlar Kültür Merkezi, İstanbul
DESCRIPTION:Anlatanadam etkinliği İstanbul şehrinde Akatlar Kültür Merkezi mekanında.
END:VEVENT
END:VCALENDAR
