
BEGIN:VCALENDAR
VERSION:2.0
PRODID:-//Etkinlikvarmi//Takvime Ekle//TR
BEGIN:VEVENT
UID:69eb4768ba45b@etkinlikvarmi.com
DTSTAMP:20260424T103520Z
DTSTART:20260424T210000
DTEND:20260424T230000
SUMMARY:Anlatanadam
LOCATION:Metin Sürel KSM, Eskişehir
DESCRIPTION:Anlatanadam etkinliği Eskişehir şehrinde Metin Sürel KSM mekanında.
END:VEVENT
END:VCALENDAR
