
BEGIN:VCALENDAR
VERSION:2.0
PRODID:-//Etkinlikvarmi//Takvime Ekle//TR
BEGIN:VEVENT
UID:69e5ee224befa@etkinlikvarmi.com
DTSTAMP:20260420T091306Z
DTSTART:20260425T203000
DTEND:20260425T223000
SUMMARY:Mahşer-i Cümbüş
LOCATION:Trump Sahne, İstanbul
DESCRIPTION:Mahşer-i Cümbüş etkinliği İstanbul şehrinde Trump Sahne mekanında.
END:VEVENT
END:VCALENDAR
