
BEGIN:VCALENDAR
VERSION:2.0
PRODID:-//Etkinlikvarmi//Takvime Ekle//TR
BEGIN:VEVENT
UID:69e624be83681@etkinlikvarmi.com
DTSTAMP:20260420T130606Z
DTSTART:20260420T203000
DTEND:20260420T223000
SUMMARY:Sabotaj
LOCATION:BAOB Sahne, Bursa
DESCRIPTION:Sabotaj etkinliği Bursa şehrinde BAOB Sahne mekanında.
END:VEVENT
END:VCALENDAR
