
BEGIN:VCALENDAR
VERSION:2.0
PRODID:-//Etkinlikvarmi//Takvime Ekle//TR
BEGIN:VEVENT
UID:69e5ee34f0472@etkinlikvarmi.com
DTSTAMP:20260420T091324Z
DTSTART:20260422T200000
DTEND:20260422T220000
SUMMARY:Ruh Öküzüm
LOCATION:BAOB Sahne, Bursa
DESCRIPTION:Ruh Öküzüm etkinliği Bursa şehrinde BAOB Sahne mekanında.
END:VEVENT
END:VCALENDAR
