
BEGIN:VCALENDAR
VERSION:2.0
PRODID:-//Etkinlikvarmi//Takvime Ekle//TR
BEGIN:VEVENT
UID:69e5ee8cb8b1a@etkinlikvarmi.com
DTSTAMP:20260420T091452Z
DTSTART:20260424T200000
DTEND:20260424T220000
SUMMARY:80ler 90lar Gülümseten Hatıralar
LOCATION:Muş Kültür Merkezi, Muş
DESCRIPTION:80ler 90lar Gülümseten Hatıralar etkinliği Muş şehrinde Muş Kültür Merkezi mekanında.
END:VEVENT
END:VCALENDAR
