
BEGIN:VCALENDAR
VERSION:2.0
PRODID:-//Etkinlikvarmi//Takvime Ekle//TR
BEGIN:VEVENT
UID:69e5ee90e5406@etkinlikvarmi.com
DTSTAMP:20260420T091456Z
DTSTART:20260424T200000
DTEND:20260424T220000
SUMMARY:Kadınlık Bizde Kalsın - Sevme Beni
LOCATION:Kadir Has Gösteri ve Sanat Merkezi, Kayseri
DESCRIPTION:Kadınlık Bizde Kalsın - Sevme Beni etkinliği Kayseri şehrinde Kadir Has Gösteri ve Sanat Merkezi mekanında.
END:VEVENT
END:VCALENDAR
