
BEGIN:VCALENDAR
VERSION:2.0
PRODID:-//Etkinlikvarmi//Takvime Ekle//TR
BEGIN:VEVENT
UID:69e5edfab947f@etkinlikvarmi.com
DTSTAMP:20260420T091226Z
DTSTART:20260425T200000
DTEND:20260425T220000
SUMMARY:Kadınlık Bizde Kalsın - Sevme Beni
LOCATION:Kapadokya Kültür ve Sanat Merkezi, Nevşehir
DESCRIPTION:Kadınlık Bizde Kalsın - Sevme Beni etkinliği Nevşehir şehrinde Kapadokya Kültür ve Sanat Merkezi mekanında.
END:VEVENT
END:VCALENDAR
