
BEGIN:VCALENDAR
VERSION:2.0
PRODID:-//Etkinlikvarmi//Takvime Ekle//TR
BEGIN:VEVENT
UID:69e5edf58e5f3@etkinlikvarmi.com
DTSTAMP:20260420T091221Z
DTSTART:20260426T200000
DTEND:20260426T220000
SUMMARY:Mahşer-i Cümbüş
LOCATION:Uşak Atatürk Kültür Merkezi, Uşak
DESCRIPTION:Mahşer-i Cümbüş etkinliği Uşak şehrinde Uşak Atatürk Kültür Merkezi mekanında.
END:VEVENT
END:VCALENDAR
