
BEGIN:VCALENDAR
VERSION:2.0
PRODID:-//Etkinlikvarmi//Takvime Ekle//TR
BEGIN:VEVENT
UID:69e5edfbb98bd@etkinlikvarmi.com
DTSTAMP:20260420T091227Z
DTSTART:20260427T200000
DTEND:20260427T220000
SUMMARY:80ler 90lar Gülümseten Hatıralar
LOCATION:Kilis Alaeddin Yavaşça, Kilis
DESCRIPTION:80ler 90lar Gülümseten Hatıralar etkinliği Kilis şehrinde Kilis Alaeddin Yavaşça mekanında.
END:VEVENT
END:VCALENDAR
