
BEGIN:VCALENDAR
VERSION:2.0
PRODID:-//Etkinlikvarmi//Takvime Ekle//TR
BEGIN:VEVENT
UID:69e5eda37caf1@etkinlikvarmi.com
DTSTAMP:20260420T091059Z
DTSTART:20260427T200000
DTEND:20260427T220000
SUMMARY:Mahşer-i Cümbüş
LOCATION:Afyon Girne Koleji, Afyonkarahisar
DESCRIPTION:Mahşer-i Cümbüş etkinliği Afyonkarahisar şehrinde Afyon Girne Koleji mekanında.
END:VEVENT
END:VCALENDAR
