
BEGIN:VCALENDAR
VERSION:2.0
PRODID:-//Etkinlikvarmi//Takvime Ekle//TR
BEGIN:VEVENT
UID:69e5ee48eb160@etkinlikvarmi.com
DTSTAMP:20260420T091344Z
DTSTART:20260428T200000
DTEND:20260428T220000
SUMMARY:Mahşer-i Cümbüş
LOCATION:Burdur Kültür Merkezi, Burdur
DESCRIPTION:Mahşer-i Cümbüş etkinliği Burdur şehrinde Burdur Kültür Merkezi mekanında.
END:VEVENT
END:VCALENDAR
