
BEGIN:VCALENDAR
VERSION:2.0
PRODID:-//Etkinlikvarmi//Takvime Ekle//TR
BEGIN:VEVENT
UID:69eb332c84d4b@etkinlikvarmi.com
DTSTAMP:20260424T090900Z
DTSTART:20260428T200000
DTEND:20260428T220000
SUMMARY:Miray Akovalıgil - Ya Bende Bir Şey Yoksa? - Stand Up
LOCATION:Atakum Belediyesi, Samsun
DESCRIPTION:Miray Akovalıgil - Ya Bende Bir Şey Yoksa? - Stand Up etkinliği Samsun şehrinde Atakum Belediyesi mekanında.
END:VEVENT
END:VCALENDAR
