
BEGIN:VCALENDAR
VERSION:2.0
PRODID:-//Etkinlikvarmi//Takvime Ekle//TR
BEGIN:VEVENT
UID:69e5f1b2611fd@etkinlikvarmi.com
DTSTAMP:20260420T092818Z
DTSTART:20260427T203000
DTEND:20260427T223000
SUMMARY:Hayrettin ile Kaos Night
LOCATION:İsmail Hakkı Tonguç KS, Manisa
DESCRIPTION:Hayrettin ile Kaos Night etkinliği Manisa şehrinde İsmail Hakkı Tonguç KS mekanında.
END:VEVENT
END:VCALENDAR
