
BEGIN:VCALENDAR
VERSION:2.0
PRODID:-//Etkinlikvarmi//Takvime Ekle//TR
BEGIN:VEVENT
UID:69e5ee48eb160@etkinlikvarmi.com
DTSTAMP:20260420T091344Z
DTSTART:20260423T220000
DTEND:20260424T000000
SUMMARY:Stabil
LOCATION:Holly Stone Aydın, Aydın
DESCRIPTION:Stabil etkinliği Aydın şehrinde Holly Stone Aydın mekanında.
END:VEVENT
END:VCALENDAR
