
BEGIN:VCALENDAR
VERSION:2.0
PRODID:-//Etkinlikvarmi//Takvime Ekle//TR
BEGIN:VEVENT
UID:69e5ee8cb8a31@etkinlikvarmi.com
DTSTAMP:20260420T091452Z
DTSTART:20260429T200000
DTEND:20260429T220000
SUMMARY:Mahşer-i Cümbüş
LOCATION:Şükran Güngör Sahnesi, Aydın
DESCRIPTION:Mahşer-i Cümbüş etkinliği Aydın şehrinde Şükran Güngör Sahnesi mekanında.
END:VEVENT
END:VCALENDAR
