
BEGIN:VCALENDAR
VERSION:2.0
PRODID:-//Etkinlikvarmi//Takvime Ekle//TR
BEGIN:VEVENT
UID:69e5ee6d73455@etkinlikvarmi.com
DTSTAMP:20260420T091421Z
DTSTART:20260429T170000
DTEND:20260429T190000
SUMMARY:Hayrettin ile Kaos Night
LOCATION:Kastamonu Belediyesi, Kastamonu
DESCRIPTION:Hayrettin ile Kaos Night etkinliği Kastamonu şehrinde Kastamonu Belediyesi mekanında.
END:VEVENT
END:VCALENDAR
