
BEGIN:VCALENDAR
VERSION:2.0
PRODID:-//Etkinlikvarmi//Takvime Ekle//TR
BEGIN:VEVENT
UID:69e5ee6d3ea92@etkinlikvarmi.com
DTSTAMP:20260420T091421Z
DTSTART:20260428T203000
DTEND:20260428T223000
SUMMARY:Sabotaj
LOCATION:Kadıköy Eğitim Sahnesi , İstanbul
DESCRIPTION:Sabotaj etkinliği İstanbul şehrinde Kadıköy Eğitim Sahnesi  mekanında.
END:VEVENT
END:VCALENDAR
