
BEGIN:VCALENDAR
VERSION:2.0
PRODID:-//Etkinlikvarmi//Takvime Ekle//TR
BEGIN:VEVENT
UID:69e5f1074b04d@etkinlikvarmi.com
DTSTAMP:20260420T092527Z
DTSTART:20260427T203000
DTEND:20260427T223000
SUMMARY:Sabotaj
LOCATION:Beylikdüzü AKSM , İstanbul
DESCRIPTION:Sabotaj etkinliği İstanbul şehrinde Beylikdüzü AKSM  mekanında.
END:VEVENT
END:VCALENDAR
