
BEGIN:VCALENDAR
VERSION:2.0
PRODID:-//Etkinlikvarmi//Takvime Ekle//TR
BEGIN:VEVENT
UID:69e5ee339e2dc@etkinlikvarmi.com
DTSTAMP:20260420T091323Z
DTSTART:20260429T220000
DTEND:20260430T000000
SUMMARY:Stabil
LOCATION:Public Fly Performance Hall, Edirne
DESCRIPTION:Stabil etkinliği Edirne şehrinde Public Fly Performance Hall mekanında.
END:VEVENT
END:VCALENDAR
