
BEGIN:VCALENDAR
VERSION:2.0
PRODID:-//Etkinlikvarmi//Takvime Ekle//TR
BEGIN:VEVENT
UID:69e5f19d66de1@etkinlikvarmi.com
DTSTAMP:20260420T092757Z
DTSTART:20260430T203000
DTEND:20260430T223000
SUMMARY:Hayrettin ile Kaos Night
LOCATION:Sinop Kültür Merkezi, Sinop
DESCRIPTION:Hayrettin ile Kaos Night etkinliği Sinop şehrinde Sinop Kültür Merkezi mekanında.
END:VEVENT
END:VCALENDAR
