
BEGIN:VCALENDAR
VERSION:2.0
PRODID:-//Etkinlikvarmi//Takvime Ekle//TR
BEGIN:VEVENT
UID:69eb32dd4fb48@etkinlikvarmi.com
DTSTAMP:20260424T090741Z
DTSTART:20260502T130000
DTEND:20260502T150000
SUMMARY:Küçük Kara Balık
LOCATION:Akatlar Kültür Merkezi, İstanbul
DESCRIPTION:Küçük Kara Balık etkinliği İstanbul şehrinde Akatlar Kültür Merkezi mekanında.
END:VEVENT
END:VCALENDAR
