
BEGIN:VCALENDAR
VERSION:2.0
PRODID:-//Etkinlikvarmi//Takvime Ekle//TR
BEGIN:VEVENT
UID:69e5f0ebe29e6@etkinlikvarmi.com
DTSTAMP:20260420T092459Z
DTSTART:20260503T200000
DTEND:20260503T220000
SUMMARY:Ruh Öküzüm
LOCATION:Yozgat Kültür Merkezi, Yozgat
DESCRIPTION:Ruh Öküzüm etkinliği Yozgat şehrinde Yozgat Kültür Merkezi mekanında.
END:VEVENT
END:VCALENDAR
