
BEGIN:VCALENDAR
VERSION:2.0
PRODID:-//Etkinlikvarmi//Takvime Ekle//TR
BEGIN:VEVENT
UID:69e5f1bfca64b@etkinlikvarmi.com
DTSTAMP:20260420T092831Z
DTSTART:20260502T210000
DTEND:20260502T230000
SUMMARY:Soner Sarıkabadayı
LOCATION:KTÜ AKM Salonu, Trabzon
DESCRIPTION:Soner Sarıkabadayı etkinliği Trabzon şehrinde KTÜ AKM Salonu mekanında.
END:VEVENT
END:VCALENDAR
