
BEGIN:VCALENDAR
VERSION:2.0
PRODID:-//Etkinlikvarmi//Takvime Ekle//TR
BEGIN:VEVENT
UID:69eb332c0b888@etkinlikvarmi.com
DTSTAMP:20260424T090900Z
DTSTART:20260426T130000
DTEND:20260426T150000
SUMMARY:Bremen Mızıkacıları
LOCATION:Akatlar Kültür Merkezi, İstanbul
DESCRIPTION:Bremen Mızıkacıları etkinliği İstanbul şehrinde Akatlar Kültür Merkezi mekanında.
END:VEVENT
END:VCALENDAR
