
BEGIN:VCALENDAR
VERSION:2.0
PRODID:-//Etkinlikvarmi//Takvime Ekle//TR
BEGIN:VEVENT
UID:69e5f1699fb2c@etkinlikvarmi.com
DTSTAMP:20260420T092705Z
DTSTART:20260426T200000
DTEND:20260426T220000
SUMMARY:JAVADOFF - We Don't Say I Love You
LOCATION:Kapadokya Kültür ve Sanat Merkezi, Nevşehir
DESCRIPTION:JAVADOFF - We Don't Say I Love You etkinliği Nevşehir şehrinde Kapadokya Kültür ve Sanat Merkezi mekanında.
END:VEVENT
END:VCALENDAR
