
BEGIN:VCALENDAR
VERSION:2.0
PRODID:-//Etkinlikvarmi//Takvime Ekle//TR
BEGIN:VEVENT
UID:69e5edf98b83c@etkinlikvarmi.com
DTSTAMP:20260420T091225Z
DTSTART:20260503T220000
DTEND:20260504T000000
SUMMARY:Stabil
LOCATION:Holly Stone Performance, Adana
DESCRIPTION:Stabil etkinliği Adana şehrinde Holly Stone Performance mekanında.
END:VEVENT
END:VCALENDAR
