
BEGIN:VCALENDAR
VERSION:2.0
PRODID:-//Etkinlikvarmi//Takvime Ekle//TR
BEGIN:VEVENT
UID:69e5f1b2614d7@etkinlikvarmi.com
DTSTAMP:20260420T092818Z
DTSTART:20260503T203000
DTEND:20260503T223000
SUMMARY:80ler 90lar Gülümseten Hatıralar
LOCATION:Kadıköy Eğitim Sahnesi , İstanbul
DESCRIPTION:80ler 90lar Gülümseten Hatıralar etkinliği İstanbul şehrinde Kadıköy Eğitim Sahnesi  mekanında.
END:VEVENT
END:VCALENDAR
