
BEGIN:VCALENDAR
VERSION:2.0
PRODID:-//Etkinlikvarmi//Takvime Ekle//TR
BEGIN:VEVENT
UID:69e5f159a7d11@etkinlikvarmi.com
DTSTAMP:20260420T092649Z
DTSTART:20260502T200000
DTEND:20260502T220000
SUMMARY:Sabotaj
LOCATION:Kapadokya Kültür ve Sanat Merkezi, Nevşehir
DESCRIPTION:Sabotaj etkinliği Nevşehir şehrinde Kapadokya Kültür ve Sanat Merkezi mekanında.
END:VEVENT
END:VCALENDAR
