
BEGIN:VCALENDAR
VERSION:2.0
PRODID:-//Etkinlikvarmi//Takvime Ekle//TR
BEGIN:VEVENT
UID:69e5f169cbfdd@etkinlikvarmi.com
DTSTAMP:20260420T092705Z
DTSTART:20260501T200000
DTEND:20260501T220000
SUMMARY:Ruh Öküzüm
LOCATION:Ve Sahne Panora &amp; Kulis Sanat, Ankara
DESCRIPTION:Ruh Öküzüm etkinliği Ankara şehrinde Ve Sahne Panora &amp; Kulis Sanat mekanında.
END:VEVENT
END:VCALENDAR
