
BEGIN:VCALENDAR
VERSION:2.0
PRODID:-//Etkinlikvarmi//Takvime Ekle//TR
BEGIN:VEVENT
UID:69e5ee339e029@etkinlikvarmi.com
DTSTAMP:20260420T091323Z
DTSTART:20260429T203000
DTEND:20260429T223000
SUMMARY:JAVADOFF - We Don't Say I Love You
LOCATION:Atakum Belediyesi, Samsun
DESCRIPTION:JAVADOFF - We Don't Say I Love You etkinliği Samsun şehrinde Atakum Belediyesi mekanında.
END:VEVENT
END:VCALENDAR
