
BEGIN:VCALENDAR
VERSION:2.0
PRODID:-//Etkinlikvarmi//Takvime Ekle//TR
BEGIN:VEVENT
UID:69e5f159d354e@etkinlikvarmi.com
DTSTAMP:20260420T092649Z
DTSTART:20260427T203000
DTEND:20260427T223000
SUMMARY:JAVADOFF - We Don't Say I Love You
LOCATION:Niğde Kültür Merkezi, Niğde
DESCRIPTION:JAVADOFF - We Don't Say I Love You etkinliği Niğde şehrinde Niğde Kültür Merkezi mekanında.
END:VEVENT
END:VCALENDAR
