
BEGIN:VCALENDAR
VERSION:2.0
PRODID:-//Etkinlikvarmi//Takvime Ekle//TR
BEGIN:VEVENT
UID:69e5ee21d3cbf@etkinlikvarmi.com
DTSTAMP:20260420T091305Z
DTSTART:20260425T203000
DTEND:20260425T223000
SUMMARY:Hayrettin ile Kaos Night
LOCATION:Lüleburgaz Yıldızları Sanat, Kırklareli
DESCRIPTION:Hayrettin ile Kaos Night etkinliği Kırklareli şehrinde Lüleburgaz Yıldızları Sanat mekanında.
END:VEVENT
END:VCALENDAR
