
BEGIN:VCALENDAR
VERSION:2.0
PRODID:-//Etkinlikvarmi//Takvime Ekle//TR
BEGIN:VEVENT
UID:69e5edf986a6c@etkinlikvarmi.com
DTSTAMP:20260420T091225Z
DTSTART:20260425T170000
DTEND:20260425T190000
SUMMARY:Hayrettin ile Kaos Night
LOCATION:Lüleburgaz Yıldızları Sanat, Kırklareli
DESCRIPTION:Hayrettin ile Kaos Night etkinliği Kırklareli şehrinde Lüleburgaz Yıldızları Sanat mekanında.
END:VEVENT
END:VCALENDAR
