
BEGIN:VCALENDAR
VERSION:2.0
PRODID:-//Etkinlikvarmi//Takvime Ekle//TR
BEGIN:VEVENT
UID:69e5eda4c0210@etkinlikvarmi.com
DTSTAMP:20260420T091100Z
DTSTART:20260504T210000
DTEND:20260504T230000
SUMMARY:Hayrettin ile Kaos Night
LOCATION:N.Z. Özay Gönlüm Salonu, Denizli
DESCRIPTION:Hayrettin ile Kaos Night etkinliği Denizli şehrinde N.Z. Özay Gönlüm Salonu mekanında.
END:VEVENT
END:VCALENDAR
