
BEGIN:VCALENDAR
VERSION:2.0
PRODID:-//Etkinlikvarmi//Takvime Ekle//TR
BEGIN:VEVENT
UID:69eb32e964f58@etkinlikvarmi.com
DTSTAMP:20260424T090753Z
DTSTART:20260504T203000
DTEND:20260504T223000
SUMMARY:JAVADOFF - We Don't Say I Love You
LOCATION:Avlu Kongre ve Kültür M. - Ertuğrul, Balıkesir
DESCRIPTION:JAVADOFF - We Don't Say I Love You etkinliği Balıkesir şehrinde Avlu Kongre ve Kültür M. - Ertuğrul mekanında.
END:VEVENT
END:VCALENDAR
