
BEGIN:VCALENDAR
VERSION:2.0
PRODID:-//Etkinlikvarmi//Takvime Ekle//TR
BEGIN:VEVENT
UID:69e6260df3d06@etkinlikvarmi.com
DTSTAMP:20260420T131141Z
DTSTART:20260421T220000
DTEND:20260422T000000
SUMMARY:Stabil
LOCATION:Cliff Venue, İzmir
DESCRIPTION:Stabil etkinliği İzmir şehrinde Cliff Venue mekanında.
END:VEVENT
END:VCALENDAR
