
BEGIN:VCALENDAR
VERSION:2.0
PRODID:-//Etkinlikvarmi//Takvime Ekle//TR
BEGIN:VEVENT
UID:69e5ed733103f@etkinlikvarmi.com
DTSTAMP:20260420T091011Z
DTSTART:20260506T200000
DTEND:20260506T220000
SUMMARY:Ruh Öküzüm
LOCATION:Muhsin Yazıcıoğlu Kültür Merkezi, Sivas
DESCRIPTION:Ruh Öküzüm etkinliği Sivas şehrinde Muhsin Yazıcıoğlu Kültür Merkezi mekanında.
END:VEVENT
END:VCALENDAR
