
BEGIN:VCALENDAR
VERSION:2.0
PRODID:-//Etkinlikvarmi//Takvime Ekle//TR
BEGIN:VEVENT
UID:69e5ee6d3e9df@etkinlikvarmi.com
DTSTAMP:20260420T091421Z
DTSTART:20260505T220000
DTEND:20260506T000000
SUMMARY:Stabil
LOCATION:Holly Stone Antalya, Antalya
DESCRIPTION:Stabil etkinliği Antalya şehrinde Holly Stone Antalya mekanında.
END:VEVENT
END:VCALENDAR
