
BEGIN:VCALENDAR
VERSION:2.0
PRODID:-//Etkinlikvarmi//Takvime Ekle//TR
BEGIN:VEVENT
UID:69e5ee49c4159@etkinlikvarmi.com
DTSTAMP:20260420T091345Z
DTSTART:20260505T210000
DTEND:20260505T230000
SUMMARY:Hayrettin ile Kaos Night
LOCATION:Hezar Dinari Kültür Merkezi, Kütahya
DESCRIPTION:Hayrettin ile Kaos Night etkinliği Kütahya şehrinde Hezar Dinari Kültür Merkezi mekanında.
END:VEVENT
END:VCALENDAR
