
BEGIN:VCALENDAR
VERSION:2.0
PRODID:-//Etkinlikvarmi//Takvime Ekle//TR
BEGIN:VEVENT
UID:69e5ee3474c5a@etkinlikvarmi.com
DTSTAMP:20260420T091324Z
DTSTART:20260505T203000
DTEND:20260505T223000
SUMMARY:JAVADOFF - We Don't Say I Love You
LOCATION:Bostanlı Suat Taşer Tiy., İzmir
DESCRIPTION:JAVADOFF - We Don't Say I Love You etkinliği İzmir şehrinde Bostanlı Suat Taşer Tiy. mekanında.
END:VEVENT
END:VCALENDAR
