
BEGIN:VCALENDAR
VERSION:2.0
PRODID:-//Etkinlikvarmi//Takvime Ekle//TR
BEGIN:VEVENT
UID:69eb332b4db57@etkinlikvarmi.com
DTSTAMP:20260424T090859Z
DTSTART:20260502T220000
DTEND:20260503T000000
SUMMARY:Stabil
LOCATION:Mersin Social Hall, Mersin
DESCRIPTION:Stabil etkinliği Mersin şehrinde Mersin Social Hall mekanında.
END:VEVENT
END:VCALENDAR
