
BEGIN:VCALENDAR
VERSION:2.0
PRODID:-//Etkinlikvarmi//Takvime Ekle//TR
BEGIN:VEVENT
UID:69e5edb60f876@etkinlikvarmi.com
DTSTAMP:20260420T091118Z
DTSTART:20260507T200000
DTEND:20260507T220000
SUMMARY:Ruh Öküzüm
LOCATION:Kapadokya Kültür ve Sanat Merkezi, Nevşehir
DESCRIPTION:Ruh Öküzüm etkinliği Nevşehir şehrinde Kapadokya Kültür ve Sanat Merkezi mekanında.
END:VEVENT
END:VCALENDAR
