
BEGIN:VCALENDAR
VERSION:2.0
PRODID:-//Etkinlikvarmi//Takvime Ekle//TR
BEGIN:VEVENT
UID:69e5edfa11d9a@etkinlikvarmi.com
DTSTAMP:20260420T091226Z
DTSTART:20260507T200000
DTEND:20260507T220000
SUMMARY:Kadınlık Bizde Kalsın - Sevme Beni
LOCATION:Burdur Kültür Merkezi, Burdur
DESCRIPTION:Kadınlık Bizde Kalsın - Sevme Beni etkinliği Burdur şehrinde Burdur Kültür Merkezi mekanında.
END:VEVENT
END:VCALENDAR
