
BEGIN:VCALENDAR
VERSION:2.0
PRODID:-//Etkinlikvarmi//Takvime Ekle//TR
BEGIN:VEVENT
UID:69e5edabe6e1a@etkinlikvarmi.com
DTSTAMP:20260420T091107Z
DTSTART:20260506T220000
DTEND:20260507T000000
SUMMARY:Stabil
LOCATION:Holly Stone Denizli, Denizli
DESCRIPTION:Stabil etkinliği Denizli şehrinde Holly Stone Denizli mekanında.
END:VEVENT
END:VCALENDAR
