
BEGIN:VCALENDAR
VERSION:2.0
PRODID:-//Etkinlikvarmi//Takvime Ekle//TR
BEGIN:VEVENT
UID:69e5f19d66d6c@etkinlikvarmi.com
DTSTAMP:20260420T092757Z
DTSTART:20260506T203000
DTEND:20260506T223000
SUMMARY:80ler 90lar Gülümseten Hatıralar
LOCATION:Karabük 100. Yıl Kültür Merkezi, Karabük
DESCRIPTION:80ler 90lar Gülümseten Hatıralar etkinliği Karabük şehrinde Karabük 100. Yıl Kültür Merkezi mekanında.
END:VEVENT
END:VCALENDAR
