
BEGIN:VCALENDAR
VERSION:2.0
PRODID:-//Etkinlikvarmi//Takvime Ekle//TR
BEGIN:VEVENT
UID:69eb32e9df518@etkinlikvarmi.com
DTSTAMP:20260424T090753Z
DTSTART:20260508T200000
DTEND:20260508T220000
SUMMARY:Ruh Öküzüm
LOCATION:01 Burda PGM Sahne - Adana, Adana
DESCRIPTION:Ruh Öküzüm etkinliği Adana şehrinde 01 Burda PGM Sahne - Adana mekanında.
END:VEVENT
END:VCALENDAR
