
BEGIN:VCALENDAR
VERSION:2.0
PRODID:-//Etkinlikvarmi//Takvime Ekle//TR
BEGIN:VEVENT
UID:69e5ed7330e59@etkinlikvarmi.com
DTSTAMP:20260420T091011Z
DTSTART:20260507T220000
DTEND:20260508T000000
SUMMARY:Stabil
LOCATION:Holly Stone Isparta, Isparta
DESCRIPTION:Stabil etkinliği Isparta şehrinde Holly Stone Isparta mekanında.
END:VEVENT
END:VCALENDAR
